BEGIN:VCALENDAR
VERSION:2.0
PRODID:-//PlayBoard NI - ECPv6.15.17.1//NONSGML v1.0//EN
CALSCALE:GREGORIAN
METHOD:PUBLISH
X-WR-CALNAME:PlayBoard NI
X-ORIGINAL-URL:https://www.playboard.org
X-WR-CALDESC:Events for PlayBoard NI
REFRESH-INTERVAL;VALUE=DURATION:PT1H
X-Robots-Tag:noindex
X-PUBLISHED-TTL:PT1H
BEGIN:VTIMEZONE
TZID:Europe/London
BEGIN:DAYLIGHT
TZOFFSETFROM:+0000
TZOFFSETTO:+0100
TZNAME:BST
DTSTART:20240331T010000
END:DAYLIGHT
BEGIN:STANDARD
TZOFFSETFROM:+0100
TZOFFSETTO:+0000
TZNAME:GMT
DTSTART:20241027T010000
END:STANDARD
BEGIN:DAYLIGHT
TZOFFSETFROM:+0000
TZOFFSETTO:+0100
TZNAME:BST
DTSTART:20250330T010000
END:DAYLIGHT
BEGIN:STANDARD
TZOFFSETFROM:+0100
TZOFFSETTO:+0000
TZNAME:GMT
DTSTART:20251026T010000
END:STANDARD
BEGIN:DAYLIGHT
TZOFFSETFROM:+0000
TZOFFSETTO:+0100
TZNAME:BST
DTSTART:20260329T010000
END:DAYLIGHT
BEGIN:STANDARD
TZOFFSETFROM:+0100
TZOFFSETTO:+0000
TZNAME:GMT
DTSTART:20261025T010000
END:STANDARD
END:VTIMEZONE
BEGIN:VEVENT
DTSTART;TZID=Europe/London:20250730T100000
DTEND;TZID=Europe/London:20250806T160000
DTSTAMP:20260425T204707
CREATED:20250724T104647Z
LAST-MODIFIED:20250805T091542Z
UID:7841-1753869600-1754496000@www.playboard.org
SUMMARY:Play in the Park
DESCRIPTION:PlayBoard is joining Armagh City\, Banbridge and Craigavon Borough Council to deliver 𝗣𝗟𝗔𝗬 𝗜𝗡 𝗧𝗛𝗘 𝗣𝗔𝗥𝗞 – child-led play sessions with loose parts\, arts and crafts\, den building\, sensory play and more! \n\n\n\nChildren are free to explore\, create\, build\, move\, and make their own fun in a safe\, welcoming space. \n\n\n\n\nTannaghmore Gardens – Wed 30 July\, 10.00am – 12.00pm *fully booked\n\n\n\nEdenvilla Park – Wed 30 July\, 2.00pm – 4.00pm *fully booked\n\n\n\nSolitude Park – Fri 1 August\, 10.00am – 12.00pm *fully booked\n\n\n\nArmagh Palace on Playday – Wed 6 August | 10.00am – 12.00pm – Playday! *fully booked\n\n\n\nLoughgall Country Park on Playday – Wed 6 August | 2.00pm – 4.00pm – Playday! *fully booked\n\n\n\n\nThe sessions are open to primary school age children and registration is essential. We’re looking forward to seeing you there!
URL:https://www.playboard.org/event/play-in-the-park/
CATEGORIES:Events
ATTACH;FMTTYPE=image/jpeg:https://www.playboard.org/wp-content/uploads/2025/07/Untitled-design.jpg
END:VEVENT
END:VCALENDAR