BEGIN:VCALENDAR
VERSION:2.0
PRODID:-//PlayBoard NI - ECPv6.15.17.1//NONSGML v1.0//EN
CALSCALE:GREGORIAN
METHOD:PUBLISH
X-ORIGINAL-URL:https://www.playboard.org
X-WR-CALDESC:Events for PlayBoard NI
REFRESH-INTERVAL;VALUE=DURATION:PT1H
X-Robots-Tag:noindex
X-PUBLISHED-TTL:PT1H
BEGIN:VTIMEZONE
TZID:Europe/London
BEGIN:DAYLIGHT
TZOFFSETFROM:+0000
TZOFFSETTO:+0100
TZNAME:BST
DTSTART:20240331T010000
END:DAYLIGHT
BEGIN:STANDARD
TZOFFSETFROM:+0100
TZOFFSETTO:+0000
TZNAME:GMT
DTSTART:20241027T010000
END:STANDARD
BEGIN:DAYLIGHT
TZOFFSETFROM:+0000
TZOFFSETTO:+0100
TZNAME:BST
DTSTART:20250330T010000
END:DAYLIGHT
BEGIN:STANDARD
TZOFFSETFROM:+0100
TZOFFSETTO:+0000
TZNAME:GMT
DTSTART:20251026T010000
END:STANDARD
BEGIN:DAYLIGHT
TZOFFSETFROM:+0000
TZOFFSETTO:+0100
TZNAME:BST
DTSTART:20260329T010000
END:DAYLIGHT
BEGIN:STANDARD
TZOFFSETFROM:+0100
TZOFFSETTO:+0000
TZNAME:GMT
DTSTART:20261025T010000
END:STANDARD
END:VTIMEZONE
BEGIN:VEVENT
DTSTART;TZID=Europe/London:20250812T100000
DTEND;TZID=Europe/London:20250812T113000
DTSTAMP:20260425T204855
CREATED:20250624T093852Z
LAST-MODIFIED:20250716T122201Z
UID:7756-1754992800-1754998200@www.playboard.org
SUMMARY:Information Session on Financial Support Available to Parents
DESCRIPTION:and 7:00pm – 8:30pm \n\n\n\nInformation session on financial support available to working parents including the NICSS extension to school age children. \n\n\n\n* Please note – this event has been rescheduled from 14 to 12 August * \n\n\n\nWorking parents with a household income of up to £200\,000 could be entitled to financial help with childcare costs – and many don’t even know it! \n\n\n\nJoin us for an Information Session with Chris Briggs\, Senior Family Benefits Advisor\, Employers For Childcare. \n\n\n\nFind out about support available through: \n\n\n\n\nUniversal Credit\n\n\n\nTax Credits\n\n\n\nChildcare Vouchers\n\n\n\nTax-Free Childcare\n\n\n\nNorthern Ireland Childcare Subsidy Scheme (NICSS).\n\n\n\n\nWhat you’ll learn: \n\n\n\n\nThe recent extension of NICSS into school-age childcare\n\n\n\nWho’s eligible and how to register\n\n\n\nWhat providers need to know\n\n\n\nHow to make sure you’re getting the best support for your family.\n\n\n\n\nThis session is suitable for registered childcare owners\, managers\, deputy managers\, committee members and parents.
URL:https://www.playboard.org/event/information-session-on-financial-support-available-to-parents/
CATEGORIES:Events
ATTACH;FMTTYPE=image/jpeg:https://www.playboard.org/wp-content/uploads/2025/06/EFCC-webinar-240925.jpg
END:VEVENT
END:VCALENDAR