BEGIN:VCALENDAR
VERSION:2.0
PRODID:-//PlayBoard NI - ECPv6.15.17.1//NONSGML v1.0//EN
CALSCALE:GREGORIAN
METHOD:PUBLISH
X-WR-CALNAME:PlayBoard NI
X-ORIGINAL-URL:https://www.playboard.org
X-WR-CALDESC:Events for PlayBoard NI
REFRESH-INTERVAL;VALUE=DURATION:PT1H
X-Robots-Tag:noindex
X-PUBLISHED-TTL:PT1H
BEGIN:VTIMEZONE
TZID:Europe/London
BEGIN:DAYLIGHT
TZOFFSETFROM:+0000
TZOFFSETTO:+0100
TZNAME:BST
DTSTART:20250330T010000
END:DAYLIGHT
BEGIN:STANDARD
TZOFFSETFROM:+0100
TZOFFSETTO:+0000
TZNAME:GMT
DTSTART:20251026T010000
END:STANDARD
BEGIN:DAYLIGHT
TZOFFSETFROM:+0000
TZOFFSETTO:+0100
TZNAME:BST
DTSTART:20260329T010000
END:DAYLIGHT
BEGIN:STANDARD
TZOFFSETFROM:+0100
TZOFFSETTO:+0000
TZNAME:GMT
DTSTART:20261025T010000
END:STANDARD
BEGIN:DAYLIGHT
TZOFFSETFROM:+0000
TZOFFSETTO:+0100
TZNAME:BST
DTSTART:20270328T010000
END:DAYLIGHT
BEGIN:STANDARD
TZOFFSETFROM:+0100
TZOFFSETTO:+0000
TZNAME:GMT
DTSTART:20271031T010000
END:STANDARD
END:VTIMEZONE
BEGIN:VEVENT
DTSTART;TZID=Europe/London:20260519T103000
DTEND;TZID=Europe/London:20260519T120000
DTSTAMP:20260424T002849
CREATED:20260423T092954Z
LAST-MODIFIED:20260423T092954Z
UID:8404-1779186600-1779192000@www.playboard.org
SUMMARY:School-Age Childcare Matters: MLA Engagement (Mid Ulster)
DESCRIPTION:Magherafelt Women’s Group\, 27-29 Moneymore Road\, Magherafelt BT45 6AG \n\n\n\nHave your voice heard. Inform the decisions that will shape the future of School-Age Childcare. \n\n\n\nSchool-Age Childcare Matters: Meet Your MLA / Meet Your Constituents \n\n\n\nAs the Early Learning and Childcare (ELC) Strategy continues to develop\, this is a critical moment to ensure it reflects the real experiences of children\, families and services on the ground. \n\n\n\nPlayBoard is hosting a series of informal “Meet and Greet” sessions\, bringing together School-Age Childcare (SAC) providers and local MLAs to support open\, constructive and solution-focused dialogue. \n\n\n\nWhy This Matters \n\n\n\nSchool-Age Childcare plays a vital role in: \n\n\n\n\nSupporting children’s development and well-being\n\n\n\nEnabling parental employment\n\n\n\nSustaining local communities\n\n\n\n\nYet\, there are growing concerns that the needs of children aged 4–11\, and the services that support them\, are not fully reflected within the draft ELC Strategy. \n\n\n\nThe decisions made now will shape the sector for the next decade. \n\n\n\nWhat This Session Offers \n\n\n\n\nA short overview from PlayBoard on the current policy context\n\n\n\nDirect engagement between SAC providers and local MLAs\n\n\n\nInformal roundtable discussions to share experiences and insights\n\n\n\nOpportunity to explore challenges\, solutions and future direction\n\n\n\n\nFor Providers \n\n\n\nThis is your opportunity to: \n\n\n\n\nShare your experience of delivering SAC\n\n\n\nHighlight the challenges facing your setting\n\n\n\nRaise the profile of SAC within your constituency\n\n\n\nInfluence policy and decision-making\n\n\n\n\nFor MLAs \n\n\n\nThis is your opportunity to: \n\n\n\n\nHear directly from providers in your constituency\n\n\n\nUnderstand the pressures facing the sector\n\n\n\nExplore the impact on local families\n\n\n\nInform your role in shaping future childcare policy\n\n\n\n\nYour Voice Matters \n\n\n\nWithout meaningful engagement between providers and decision-makers\, there is a real risk that School-Age Childcare\, and the children and families it supports\, will continue to be overlooked.
URL:https://www.playboard.org/event/school-age-childcare-matters-mla-engagement-mid-ulster-2/
CATEGORIES:Events
ATTACH;FMTTYPE=image/png:https://www.playboard.org/wp-content/uploads/2026/04/SAC-Matters-web.png
END:VEVENT
BEGIN:VEVENT
DTSTART;TZID=Europe/London:20260521T103000
DTEND;TZID=Europe/London:20260521T120000
DTSTAMP:20260424T002849
CREATED:20260423T093107Z
LAST-MODIFIED:20260423T093108Z
UID:8407-1779359400-1779364800@www.playboard.org
SUMMARY:School-Age Childcare Matters: MLA Engagement
DESCRIPTION:Clandeboye Nature Rangers (Clandeboye Estate)\, 491a Belfast Road\, Bangor BT19 1RL \n\n\n\nHave your voice heard. Inform the decisions that will shape the future of School-Age Childcare. \n\n\n\nSchool-Age Childcare Matters: Meet Your MLA / Meet Your Constituents \n\n\n\nAs the Early Learning and Childcare (ELC) Strategy continues to develop\, this is a critical moment to ensure it reflects the real experiences of children\, families and services on the ground. \n\n\n\nPlayBoard is hosting a series of informal “Meet and Greet” sessions\, bringing together School-Age Childcare (SAC) providers and local MLAs to support open\, constructive and solution-focused dialogue. \n\n\n\nWhy This Matters \n\n\n\nSchool-Age Childcare plays a vital role in: \n\n\n\n\nSupporting children’s development and well-being\n\n\n\nEnabling parental employment\n\n\n\nSustaining local communities\n\n\n\n\nYet\, there are growing concerns that the needs of children aged 4–11\, and the services that support them\, are not fully reflected within the draft ELC Strategy. \n\n\n\nThe decisions made now will shape the sector for the next decade. \n\n\n\nWhat This Session Offers \n\n\n\n\nA short overview from PlayBoard on the current policy context\n\n\n\nDirect engagement between SAC providers and local MLAs\n\n\n\nInformal roundtable discussions to share experiences and insights\n\n\n\nOpportunity to explore challenges\, solutions and future direction\n\n\n\n\nFor Providers \n\n\n\nThis is your opportunity to: \n\n\n\n\nShare your experience of delivering SAC\n\n\n\nHighlight the challenges facing your setting\n\n\n\nRaise the profile of SAC within your constituency\n\n\n\nInfluence policy and decision-making\n\n\n\n\nFor MLAs \n\n\n\nThis is your opportunity to: \n\n\n\n\nHear directly from providers in your constituency\n\n\n\nUnderstand the pressures facing the sector\n\n\n\nExplore the impact on local families\n\n\n\nInform your role in shaping future childcare policy\n\n\n\n\nYour Voice Matters \n\n\n\nWithout meaningful engagement between providers and decision-makers\, there is a real risk that School-Age Childcare\, and the children and families it supports\, will continue to be overlooked.
URL:https://www.playboard.org/event/school-age-childcare-matters-mla-engagement/
CATEGORIES:Events
ATTACH;FMTTYPE=image/png:https://www.playboard.org/wp-content/uploads/2026/04/SAC-Matters-web.png
END:VEVENT
END:VCALENDAR