BEGIN:VCALENDAR
VERSION:2.0
PRODID:-//PlayBoard NI - ECPv6.15.17.1//NONSGML v1.0//EN
CALSCALE:GREGORIAN
METHOD:PUBLISH
X-WR-CALNAME:PlayBoard NI
X-ORIGINAL-URL:https://www.playboard.org
X-WR-CALDESC:Events for PlayBoard NI
REFRESH-INTERVAL;VALUE=DURATION:PT1H
X-Robots-Tag:noindex
X-PUBLISHED-TTL:PT1H
BEGIN:VTIMEZONE
TZID:Europe/London
BEGIN:DAYLIGHT
TZOFFSETFROM:+0000
TZOFFSETTO:+0100
TZNAME:BST
DTSTART:20220327T010000
END:DAYLIGHT
BEGIN:STANDARD
TZOFFSETFROM:+0100
TZOFFSETTO:+0000
TZNAME:GMT
DTSTART:20221030T010000
END:STANDARD
BEGIN:DAYLIGHT
TZOFFSETFROM:+0000
TZOFFSETTO:+0100
TZNAME:BST
DTSTART:20230326T010000
END:DAYLIGHT
BEGIN:STANDARD
TZOFFSETFROM:+0100
TZOFFSETTO:+0000
TZNAME:GMT
DTSTART:20231029T010000
END:STANDARD
BEGIN:DAYLIGHT
TZOFFSETFROM:+0000
TZOFFSETTO:+0100
TZNAME:BST
DTSTART:20240331T010000
END:DAYLIGHT
BEGIN:STANDARD
TZOFFSETFROM:+0100
TZOFFSETTO:+0000
TZNAME:GMT
DTSTART:20241027T010000
END:STANDARD
END:VTIMEZONE
BEGIN:VEVENT
DTSTART;TZID=Europe/London:20230331T100000
DTEND;TZID=Europe/London:20230331T140000
DTSTAMP:20260424T164304
CREATED:20230302T155615Z
LAST-MODIFIED:20230303T115552Z
UID:5434-1680256800-1680271200@www.playboard.org
SUMMARY:OUR Generation\, OUR Play\, OUR Legacy
DESCRIPTION:A shared learning seminar showcasing the impact and legacy of PlayBoard’s Spaces to Be programme\, delivered as part of the OUR Generation project. \n\n\n\nOver the past three years\, PlayBoard has delivered our Spaces to Be programme in schools and childcare settings within the Urban Village Areas in Belfast and Derry/Londonderry. \n\n\n\nThrough PLAY\, we have supported children in building resilience and understanding and managing their emotions\, supporting their overall mental health and well-being. The project has also supported children to become diverse thinkers by being accepting and inclusive of other communities and cultures. \n\n\n\nThe seminar will feature impactful talks\, testimonials\, and a live Q & A. \n\n\n\nThe event will run 10:00am to 1:00pm\, followed by a networking lunch.  \n\n\n\nThere will be an opportunity for organisations to showcase their work at a networking stand during the lunch – numbers are limited and available on a first come\, first served basis when registering. \n\n\n\nEveryone with an interest in our work is welcome to attend\, and we would particularly like to encourage OUR Generation and PlayBoard stakeholders to join us. \n\n\n\nOUR Generation is supported by the EU’s PEACE IV programme\, managed by SEUPB.
URL:https://www.playboard.org/event/our-generation-our-play-our-legacy/
LOCATION:Girdwood Community Hub\, 10 Girdwood Avenue\, Belfast\, Co. Antrim\, BT14 6EG\, United Kingdom
CATEGORIES:Events
ATTACH;FMTTYPE=image/png:https://www.playboard.org/wp-content/uploads/2023/03/OG-Seminar-310323-web.png
END:VEVENT
BEGIN:VEVENT
DTSTART;TZID=Europe/London:20230320T100000
DTEND;TZID=Europe/London:20230320T113000
DTSTAMP:20260424T164304
CREATED:20230223T124419Z
LAST-MODIFIED:20230303T120750Z
UID:5407-1679306400-1679311800@www.playboard.org
SUMMARY:Focus on play
DESCRIPTION:March 20 @ 6:30pm – 8:00pm \n\n\n\nThe 4 Ps of quality in play provision – cluster for school age childcare providers.  \n\n\n\nThis online webinar will be beneficial to those operating in out of school provision including staff\, committee members\, and providers. \n\n\n\nThroughout the session participants will explore what ‘quality’ play entails through the lens of the play environment\, the playworkers role\, play values and types of play\, and children’s participation.  \n\n\n\nJoin this cluster to share ideas\, learn from others and look at some of the quality indicators of best practice in play provision for out of school settings.
URL:https://www.playboard.org/event/focus-on-play/
CATEGORIES:Events
ATTACH;FMTTYPE=image/png:https://www.playboard.org/wp-content/uploads/2023/02/Focus-on-play-200323-web.png
END:VEVENT
END:VCALENDAR