BEGIN:VCALENDAR
VERSION:2.0
PRODID:-//PlayBoard NI - ECPv6.15.17.1//NONSGML v1.0//EN
CALSCALE:GREGORIAN
METHOD:PUBLISH
X-WR-CALNAME:PlayBoard NI
X-ORIGINAL-URL:https://www.playboard.org
X-WR-CALDESC:Events for PlayBoard NI
REFRESH-INTERVAL;VALUE=DURATION:PT1H
X-Robots-Tag:noindex
X-PUBLISHED-TTL:PT1H
BEGIN:VTIMEZONE
TZID:Europe/London
BEGIN:DAYLIGHT
TZOFFSETFROM:+0000
TZOFFSETTO:+0100
TZNAME:BST
DTSTART:20240331T010000
END:DAYLIGHT
BEGIN:STANDARD
TZOFFSETFROM:+0100
TZOFFSETTO:+0000
TZNAME:GMT
DTSTART:20241027T010000
END:STANDARD
BEGIN:DAYLIGHT
TZOFFSETFROM:+0000
TZOFFSETTO:+0100
TZNAME:BST
DTSTART:20250330T010000
END:DAYLIGHT
BEGIN:STANDARD
TZOFFSETFROM:+0100
TZOFFSETTO:+0000
TZNAME:GMT
DTSTART:20251026T010000
END:STANDARD
BEGIN:DAYLIGHT
TZOFFSETFROM:+0000
TZOFFSETTO:+0100
TZNAME:BST
DTSTART:20260329T010000
END:DAYLIGHT
BEGIN:STANDARD
TZOFFSETFROM:+0100
TZOFFSETTO:+0000
TZNAME:GMT
DTSTART:20261025T010000
END:STANDARD
END:VTIMEZONE
BEGIN:VEVENT
DTSTART;TZID=Europe/London:20250205T190000
DTEND;TZID=Europe/London:20250205T203000
DTSTAMP:20260426T044842
CREATED:20250128T155653Z
LAST-MODIFIED:20250205T133441Z
UID:7299-1738782000-1738787400@www.playboard.org
SUMMARY:Employers for Childcare webinar
DESCRIPTION:This session has been postponed to 12 March. Bookings will open soon. We apologise for any inconvenience. \n\n\n\nInformation session on financial support available to working parents accessing childcare. \n\n\n\nChris Briggs\, Senior Family Benefits Advisor with Employers For Childcare will be delivering an information session to School-Age Childcare providers and parents which will give an overview of the financial support available for parents towards the cost of registered School-Age Childcare. \n\n\n\nThe session is suitable for School-Age Childcare managers\, deputy managers\, staff and parents.
URL:https://www.playboard.org/event/employers-for-childcare-webinar/
CATEGORIES:Events
ATTACH;FMTTYPE=image/jpeg:https://www.playboard.org/wp-content/uploads/2025/01/EFCC-webinars.jpg
END:VEVENT
BEGIN:VEVENT
DTSTART;TZID=Europe/London:20250206T100000
DTEND;TZID=Europe/London:20250206T113000
DTSTAMP:20260426T044842
CREATED:20250128T160726Z
LAST-MODIFIED:20250205T133922Z
UID:7302-1738836000-1738841400@www.playboard.org
SUMMARY:Employers for Childcare webinar
DESCRIPTION:This session has been postponed to 12 March. Bookings will open soon. We apologise for any inconvenience. \n\n\n\nInformation session on financial support available to working parents accessing childcare. \n\n\n\nChris Briggs\, Senior Family Benefits Advisor with Employers for Childcare will be delivering an information session to School-Age Childcare providers and parents which will give an overview of the financial support available for parents towards the cost of registered School-Age Childcare. \n\n\n\nThe session is suitable for School-Age Childcare managers\, deputy managers\, staff and parents.
URL:https://www.playboard.org/event/employers-for-childcare-webinar-2/
CATEGORIES:Events
ATTACH;FMTTYPE=image/jpeg:https://www.playboard.org/wp-content/uploads/2025/01/EFCC-webinars.jpg
END:VEVENT
BEGIN:VEVENT
DTSTART;TZID=Europe/London:20250207T103000
DTEND;TZID=Europe/London:20250207T110000
DTSTAMP:20260426T044842
CREATED:20250115T131557Z
LAST-MODIFIED:20250205T161130Z
UID:7254-1738924200-1738926000@www.playboard.org
SUMMARY:OUR Generation information session
DESCRIPTION:OUR Generation is a partnership\, led by Action Mental Health\, which aims to empower and invest in our children and young people. Bringing together the expertise of nine partner organisations\, the project is committed to delivering impactful initiatives to support children and young people’s mental health and well-being. The partnership builds on the highly successful PEACE IV OUR Generation project. \n\n\n\nPlayBoard NI\, in collaboration with Action Mental Health and Cooperation Ireland\, is hosting two online information sessions for prospective participants. \n\n\n\nWe will be delivering programmes for children aged 9 to 11 years in schools\, community groups\, and School-Age Childcare settings across the following areas: \n\n\n\n\nArmagh\, Banbridge\, Craigavon Council area\n\n\n\nNewry\, Mourne\, Down Council area\n\n\n\nBorder area of County Monaghan\n\n\n\nBorder area of County Louth\n\n\n\n\nBOOK \n\n\n\nBook now to find out more about our FREE programmes and the prospective benefits to your school or setting. Please email hayley.ford@playboard.co.uk  \n\n\n\nFURTHER INFORMATION \n\n\n\n\nPlayBoard’s OUR Generation programme – advocating the use of play as a means of supporting the development of childhood resilience\, and as a mechanism for positively addressing differences.\n\n\n\nOUR Generation project
URL:https://www.playboard.org/event/our-generation-information-session/
CATEGORIES:Events
ATTACH;FMTTYPE=image/jpeg:https://www.playboard.org/wp-content/uploads/2025/01/Feb25-OG-Info-Sessions.jpg
END:VEVENT
BEGIN:VEVENT
DTSTART;TZID=Europe/London:20250218T100000
DTEND;TZID=Europe/London:20250218T110000
DTSTAMP:20260426T044842
CREATED:20250117T160416Z
LAST-MODIFIED:20250117T160416Z
UID:7279-1739872800-1739876400@www.playboard.org
SUMMARY:Let’s have a conversation …. New financial year\, upcoming financial changes and potential impact
DESCRIPTION:FREE webinar for School-Age Childcare providers. \n\n\n\nJoin the informal conversation to explore the Budget changes announced in October 2024\, and the impact it may have on your finances. We will also discuss what out of school childcare settings should be doing to prepare and plan ahead of the new financial year. \n\n\n\n1. What exactly are the changes and are they applicable to School-Age-Childcare settings? \n\n\n\n2. Financial impact of these changes. \n\n\n\n3. What else might be impacted by the upcoming budget changes? \n\n\n\n4. Is there anything else we should be considering? \n\n\n\n5. Planning ahead for the next financial year. \n\n\n\nAs a conversation\, participants are invited to take part in the discussion and are encouraged to share ideas for meeting the challenges ahead. \n\n\n\nFacilitator: Maura Moore \n\n\n\nBook your free place at https://PBNewFinancialYear180225.eventbrite.co.uk
URL:https://www.playboard.org/event/lets-have-a-conversation-new-financial-year-upcoming-financial-changes-and-potential-impact/
CATEGORIES:Events
ATTACH;FMTTYPE=image/jpeg:https://www.playboard.org/wp-content/uploads/2025/01/New-financial-year-web.jpg
END:VEVENT
END:VCALENDAR